BEGIN:VCALENDAR
VERSION:2.0
PRODID:-//A.C.E. of SW Minnesota - ECPv6.15.20//NONSGML v1.0//EN
CALSCALE:GREGORIAN
METHOD:PUBLISH
X-WR-CALNAME:A.C.E. of SW Minnesota
X-ORIGINAL-URL:https://aceswmn.org
X-WR-CALDESC:Events for A.C.E. of SW Minnesota
REFRESH-INTERVAL;VALUE=DURATION:PT1H
X-Robots-Tag:noindex
X-PUBLISHED-TTL:PT1H
BEGIN:VTIMEZONE
TZID:America/Chicago
BEGIN:DAYLIGHT
TZOFFSETFROM:-0600
TZOFFSETTO:-0500
TZNAME:CDT
DTSTART:20250309T080000
END:DAYLIGHT
BEGIN:STANDARD
TZOFFSETFROM:-0500
TZOFFSETTO:-0600
TZNAME:CST
DTSTART:20251102T070000
END:STANDARD
BEGIN:DAYLIGHT
TZOFFSETFROM:-0600
TZOFFSETTO:-0500
TZNAME:CDT
DTSTART:20260308T080000
END:DAYLIGHT
BEGIN:STANDARD
TZOFFSETFROM:-0500
TZOFFSETTO:-0600
TZNAME:CST
DTSTART:20261101T070000
END:STANDARD
BEGIN:DAYLIGHT
TZOFFSETFROM:-0600
TZOFFSETTO:-0500
TZNAME:CDT
DTSTART:20270314T080000
END:DAYLIGHT
BEGIN:STANDARD
TZOFFSETFROM:-0500
TZOFFSETTO:-0600
TZNAME:CST
DTSTART:20271107T070000
END:STANDARD
END:VTIMEZONE
BEGIN:VEVENT
DTSTART;TZID=America/Chicago:20260223T090000
DTEND;TZID=America/Chicago:20260223T100000
DTSTAMP:20260424T071641
CREATED:20251105T221155Z
LAST-MODIFIED:20251105T221155Z
UID:10004541-1771837200-1771840800@aceswmn.org
SUMMARY:SAIL class - Edgerton MN
DESCRIPTION:
URL:https://aceswmn.org/event/sail-class-edgerton-mn/2026-02-23/
LOCATION:Runals Memorial Hall\, 811 - 1st Ave. W.\, Edgerton\, MN\, 56128\, United States
CATEGORIES:Stay Active & Independent for Life
ATTACH;FMTTYPE=image/jpeg:https://aceswmn.org/wp-content/uploads/2025/11/sail-rsvp-flyer-edgerton-jan-mar2026.jpeg
ORGANIZER;CN="A.C.E. of SW Minnesota - Pipestone County":MAILTO:ace.pipestone@pcmn.us
GEO:43.8735532;-96.1301842
X-APPLE-STRUCTURED-LOCATION;VALUE=URI;X-ADDRESS=Runals Memorial Hall 811 - 1st Ave. W. Edgerton MN 56128 United States;X-APPLE-RADIUS=500;X-TITLE=811 - 1st Ave. W.:geo:-96.1301842,43.8735532
END:VEVENT
BEGIN:VEVENT
DTSTART;TZID=America/Chicago:20260223T093000
DTEND;TZID=America/Chicago:20260223T103000
DTSTAMP:20260424T071641
CREATED:20251105T221430Z
LAST-MODIFIED:20251105T221430Z
UID:10004565-1771839000-1771842600@aceswmn.org
SUMMARY:SAIL class - Jasper MN
DESCRIPTION:
URL:https://aceswmn.org/event/sail-class-jasper-mn/2026-02-23/
LOCATION:Jasper Memorial Hall\, 101 E. Wall Street\, Jasper\, MN\, United States
CATEGORIES:Stay Active & Independent for Life
ATTACH;FMTTYPE=image/jpeg:https://aceswmn.org/wp-content/uploads/2025/11/sail-rsvp-grant-flyer-jasper-jan-mar2026.jpeg
ORGANIZER;CN="A.C.E. of SW Minnesota - Pipestone County":MAILTO:ace.pipestone@pcmn.us
END:VEVENT
BEGIN:VEVENT
DTSTART;TZID=America/Chicago:20260223T093000
DTEND;TZID=America/Chicago:20260223T103000
DTSTAMP:20260424T071641
CREATED:20260107T001202Z
LAST-MODIFIED:20260107T003326Z
UID:10004762-1771839000-1771842600@aceswmn.org
SUMMARY:SAIL class - Luverne MN
DESCRIPTION:
URL:https://aceswmn.org/event/sail-class-luverne-mn/2026-02-23/
LOCATION:American Reformed Chuch\, 304 N. Fairview Dr.\, Luverne\, 56156\, United States
CATEGORIES:Stay Active & Independent for Life
ATTACH;FMTTYPE=image/jpeg:https://aceswmn.org/wp-content/uploads/2026/01/sail-class-flyer-ace-mnraaa-arc-jan-mar2026-scaled.jpeg
ORGANIZER;CN="A.C.E. of SW Minnesota - Rock County":MAILTO:ace.rock@co.rock.mn.us
END:VEVENT
BEGIN:VEVENT
DTSTART;TZID=America/Chicago:20260223T093000
DTEND;TZID=America/Chicago:20260223T103000
DTSTAMP:20260424T071641
CREATED:20260129T184156Z
LAST-MODIFIED:20260129T184156Z
UID:10005637-1771839000-1771842600@aceswmn.org
SUMMARY:SAIL class - Hills MN
DESCRIPTION:
URL:https://aceswmn.org/event/sail-class-hills-mn/2026-02-23/
LOCATION:Game Plan 4 Hope\, 312 W. 3rd St.\, Hills\, MN\, 56138\, United States
CATEGORIES:Stay Active & Independent for Life
ATTACH;FMTTYPE=image/jpeg:https://aceswmn.org/wp-content/uploads/2026/01/sail-class-flyer-rsvp-hills-gp4h-feb-apr26.jpeg
ORGANIZER;CN="A.C.E. of SW Minnesota - Rock County":MAILTO:ace.rock@co.rock.mn.us
END:VEVENT
BEGIN:VEVENT
DTSTART;TZID=America/Chicago:20260223T093000
DTEND;TZID=America/Chicago:20260223T103000
DTSTAMP:20260424T071641
CREATED:20260204T181137Z
LAST-MODIFIED:20260204T181137Z
UID:10005669-1771839000-1771842600@aceswmn.org
SUMMARY:SAIL class - Hardwick MN
DESCRIPTION:
URL:https://aceswmn.org/event/sail-class-hardwick-mn/2026-02-23/
LOCATION:Hardwick Memorial Center\, 111 East Main Street\, Hardwick\, MN\, United States
CATEGORIES:Stay Active & Independent for Life
ATTACH;FMTTYPE=image/jpeg:https://aceswmn.org/wp-content/uploads/2026/02/sail-class-flyer-rsvp-hardwick-jan-mar2026.jpeg
ORGANIZER;CN="A.C.E. of SW Minnesota - Rock County":MAILTO:ace.rock@co.rock.mn.us
END:VEVENT
BEGIN:VEVENT
DTSTART;TZID=America/Chicago:20260223T100000
DTEND;TZID=America/Chicago:20260223T110000
DTSTAMP:20260424T071641
CREATED:20260107T003157Z
LAST-MODIFIED:20260107T003157Z
UID:10004890-1771840800-1771844400@aceswmn.org
SUMMARY:SAIL class - Tyler MN
DESCRIPTION:
URL:https://aceswmn.org/event/sail-class-tyler-mn/2026-02-23/
LOCATION:The Rock\, 148 N Tyler Street\, Tyler\, MN\, United States
CATEGORIES:Stay Active & Independent for Life
ATTACH;FMTTYPE=image/jpeg:https://aceswmn.org/wp-content/uploads/2026/01/sail-3d-2026-the-rock-scaled.jpeg
ORGANIZER;CN="A.C.E. of SW Minnesota - Lincoln Co.":MAILTO:ace.lincoln@co.lincoln.mn.us
END:VEVENT
BEGIN:VEVENT
DTSTART;TZID=America/Chicago:20260223T130000
DTEND;TZID=America/Chicago:20260223T140000
DTSTAMP:20260424T071641
CREATED:20251028T193000Z
LAST-MODIFIED:20260107T000706Z
UID:10004495-1771851600-1771855200@aceswmn.org
SUMMARY:SAIL class - Holland MN
DESCRIPTION:
URL:https://aceswmn.org/event/stay-active-independent-for-life-sail-class-holland/2026-02-23/
LOCATION:Holland Senior Center\, 441 Rock St.\, Holland\, MN\, 56139\, United States
CATEGORIES:Stay Active & Independent for Life
ATTACH;FMTTYPE=image/jpeg:https://aceswmn.org/wp-content/uploads/2025/10/sail-ebp-flyer-holland-srctr-jan-mar2026.jpeg
ORGANIZER;CN="A.C.E. of SW Minnesota - Pipestone County":MAILTO:ace.pipestone@pcmn.us
END:VEVENT
BEGIN:VEVENT
DTSTART;TZID=America/Chicago:20260223T130000
DTEND;TZID=America/Chicago:20260223T140000
DTSTAMP:20260424T071641
CREATED:20251105T221723Z
LAST-MODIFIED:20260107T002327Z
UID:10004589-1771851600-1771855200@aceswmn.org
SUMMARY:SAIL class - Pipestone MN
DESCRIPTION:
URL:https://aceswmn.org/event/sail-class-pipestone-mn/2026-02-23/
LOCATION:Ridge View Estates\, 903 2nd Ave. SE\, Pipestone\, MN\, United States
CATEGORIES:Stay Active & Independent for Life
ATTACH;FMTTYPE=image/jpeg:https://aceswmn.org/wp-content/uploads/2025/11/sail-3d-ridge-view-jan-mar2026.jpeg
ORGANIZER;CN="A.C.E. of SW Minnesota - Pipestone County":MAILTO:ace.pipestone@pcmn.us
END:VEVENT
BEGIN:VEVENT
DTSTART;TZID=America/Chicago:20260223T130000
DTEND;TZID=America/Chicago:20260223T140000
DTSTAMP:20260424T071641
CREATED:20260121T192749Z
LAST-MODIFIED:20260121T193231Z
UID:10005455-1771851600-1771855200@aceswmn.org
SUMMARY:SAIL class - Marshall MN
DESCRIPTION:
URL:https://aceswmn.org/event/sail-class-marshall-mn/2026-02-23/
LOCATION:Hill Stree Place\, 401 S. Hill St.\, Marshall\, MN\, 56258\, United States
CATEGORIES:Stay Active & Independent for Life
ATTACH;FMTTYPE=image/jpeg:https://aceswmn.org/wp-content/uploads/2026/01/sail-class-flyer-hsp-jan26-apr26-new-logo-scaled.jpeg
ORGANIZER;CN="A.C.E. of SW Minnesota - Lyon County":MAILTO:ace.lyon@co.lyon.mn.us
END:VEVENT
BEGIN:VEVENT
DTSTART;TZID=America/Chicago:20260224T090000
DTEND;TZID=America/Chicago:20260224T100000
DTSTAMP:20260424T071641
CREATED:20251120T160102Z
LAST-MODIFIED:20260107T003250Z
UID:10004616-1771923600-1771927200@aceswmn.org
SUMMARY:SAIL class - Fulda MN
DESCRIPTION:
URL:https://aceswmn.org/event/sail-class-fulda-mn/2026-02-24/
LOCATION:Fulda Senior Center\, 107 N. Lafayette Ave.\, Fulda\, MN\, 56131\, United States
CATEGORIES:Stay Active & Independent for Life
ATTACH;FMTTYPE=image/jpeg:https://aceswmn.org/wp-content/uploads/2025/11/sail-class-flyer-ebp-fulda-senior-center-jan-mar2026.jpeg
ORGANIZER;CN="A.C.E. of SW Minnesota - Murray County":MAILTO:ace.murray@co.murray.mn.us
END:VEVENT
BEGIN:VEVENT
DTSTART;TZID=America/Chicago:20260224T090000
DTEND;TZID=America/Chicago:20260224T100000
DTSTAMP:20260424T071641
CREATED:20260204T181510Z
LAST-MODIFIED:20260204T181510Z
UID:10005693-1771923600-1771927200@aceswmn.org
SUMMARY:SAIL class - Magnolia MN
DESCRIPTION:
URL:https://aceswmn.org/event/sail-class-magnolia-mn/2026-02-24/
LOCATION:Magnolia Post Office\, 113 Luverne St.\, Magnolia\, MN\, 56158\, United States
CATEGORIES:Stay Active & Independent for Life
ATTACH;FMTTYPE=image/jpeg:https://aceswmn.org/wp-content/uploads/2026/02/sail-class-flyer-rsvp-magnolia-jan-mar26.jpeg
ORGANIZER;CN="A.C.E. of SW Minnesota - Rock County":MAILTO:ace.rock@co.rock.mn.us
END:VEVENT
BEGIN:VEVENT
DTSTART;TZID=America/Chicago:20260224T103000
DTEND;TZID=America/Chicago:20260224T113000
DTSTAMP:20260424T071641
CREATED:20260112T204737Z
LAST-MODIFIED:20260112T204737Z
UID:10004940-1771929000-1771932600@aceswmn.org
SUMMARY:SAIL class - Tracy MN
DESCRIPTION:
URL:https://aceswmn.org/event/sail-class-tracy-mn/2026-02-24/
LOCATION:Veteran’s Memorial Gymnasium\, 336 Morgan Street\, Tracy\, MN\, United States
CATEGORIES:Stay Active & Independent for Life
ATTACH;FMTTYPE=image/jpeg:https://aceswmn.org/wp-content/uploads/2026/01/sail-class-flyer-tracy-jan26-may26-rsvp.jpeg
ORGANIZER;CN="A.C.E. of SW Minnesota - Lyon County":MAILTO:ace.lyon@co.lyon.mn.us
END:VEVENT
BEGIN:VEVENT
DTSTART;TZID=America/Chicago:20260224T130000
DTEND;TZID=America/Chicago:20260224T140000
DTSTAMP:20260424T071641
CREATED:20250630T194644Z
LAST-MODIFIED:20250630T194647Z
UID:10003643-1771938000-1771941600@aceswmn.org
SUMMARY:Caregiver Support Group-Windom
DESCRIPTION:Please contact Cottonwood County Program Manager Emily Bentson for information.\n1012 – 5th Ave.\, Rm 30\nWindom MN 56101\n507-831-1803
URL:https://aceswmn.org/event/caregiver-support-group-windom-2/2026-02-24/
LOCATION:BARC – Library\, 1012 - 5th Ave.\, Windom\, MN\, 56101\, United States
CATEGORIES:Caregiver Support Groups
ORGANIZER;CN="A.C.E. of SW Minnesota - Cottonwood County":MAILTO:ace.cottonwood@co.cottonwood.mn.us
GEO:43.8667157;-95.1191428
X-APPLE-STRUCTURED-LOCATION;VALUE=URI;X-ADDRESS=BARC – Library 1012 - 5th Ave. Windom MN 56101 United States;X-APPLE-RADIUS=500;X-TITLE=1012 - 5th Ave.:geo:-95.1191428,43.8667157
END:VEVENT
BEGIN:VEVENT
DTSTART;TZID=America/Chicago:20260224T133000
DTEND;TZID=America/Chicago:20260224T143000
DTSTAMP:20260424T071641
CREATED:20260112T204352Z
LAST-MODIFIED:20260112T204352Z
UID:10004909-1771939800-1771943400@aceswmn.org
SUMMARY:SAIL class - Slayton MN
DESCRIPTION:
URL:https://aceswmn.org/event/sail-class-slayton-mn/2026-02-24/
LOCATION:Christ Lutheran Church\, 2959 Queen Ave.\, Slayton\, MN\, 56172\, United States
CATEGORIES:Stay Active & Independent for Life
ATTACH;FMTTYPE=image/jpeg:https://aceswmn.org/wp-content/uploads/2026/01/sail-class-flyer-eb-christlutheran-jan-apr2026-1.jpeg
ORGANIZER;CN="A.C.E. of SW Minnesota - Murray County":MAILTO:ace.murray@co.murray.mn.us
GEO:43.9830014;-95.747807
X-APPLE-STRUCTURED-LOCATION;VALUE=URI;X-ADDRESS=Christ Lutheran Church 2959 Queen Ave. Slayton MN 56172 United States;X-APPLE-RADIUS=500;X-TITLE=2959 Queen Ave.:geo:-95.747807,43.9830014
END:VEVENT
BEGIN:VEVENT
DTSTART;TZID=America/Chicago:20260224T150000
DTEND;TZID=America/Chicago:20260224T160000
DTSTAMP:20260424T071641
CREATED:20250320T013423Z
LAST-MODIFIED:20260125T012642Z
UID:10003341-1771945200-1771948800@aceswmn.org
SUMMARY:Caregiver Support Group-Luverne
DESCRIPTION:Please contact Rock County Program Manager Linda Wenzel for information.\n105 S. Estey St.\, Suite #2\nLuverne MN 56156\n507-283-5064
URL:https://aceswmn.org/event/caregiver-support-group-luverne/2026-02-24/
LOCATION:MN
CATEGORIES:Caregiver Support Groups
ORGANIZER;CN="A.C.E. of SW Minnesota - Rock County":MAILTO:ace.rock@co.rock.mn.us
END:VEVENT
BEGIN:VEVENT
DTSTART;TZID=America/Chicago:20260225T093000
DTEND;TZID=America/Chicago:20260225T103000
DTSTAMP:20260424T071641
CREATED:20260204T181137Z
LAST-MODIFIED:20260204T181137Z
UID:10005670-1772011800-1772015400@aceswmn.org
SUMMARY:SAIL class - Hardwick MN
DESCRIPTION:
URL:https://aceswmn.org/event/sail-class-hardwick-mn/2026-02-25/
LOCATION:Hardwick Memorial Center\, 111 East Main Street\, Hardwick\, MN\, United States
CATEGORIES:Stay Active & Independent for Life
ATTACH;FMTTYPE=image/jpeg:https://aceswmn.org/wp-content/uploads/2026/02/sail-class-flyer-rsvp-hardwick-jan-mar2026.jpeg
ORGANIZER;CN="A.C.E. of SW Minnesota - Rock County":MAILTO:ace.rock@co.rock.mn.us
END:VEVENT
BEGIN:VEVENT
DTSTART;TZID=America/Chicago:20260225T130000
DTEND;TZID=America/Chicago:20260225T140000
DTSTAMP:20260424T071641
CREATED:20251028T193000Z
LAST-MODIFIED:20260107T000706Z
UID:10004521-1772024400-1772028000@aceswmn.org
SUMMARY:SAIL class - Holland MN
DESCRIPTION:
URL:https://aceswmn.org/event/stay-active-independent-for-life-sail-class-holland/2026-02-25/
LOCATION:Holland Senior Center\, 441 Rock St.\, Holland\, MN\, 56139\, United States
CATEGORIES:Stay Active & Independent for Life
ATTACH;FMTTYPE=image/jpeg:https://aceswmn.org/wp-content/uploads/2025/10/sail-ebp-flyer-holland-srctr-jan-mar2026.jpeg
ORGANIZER;CN="A.C.E. of SW Minnesota - Pipestone County":MAILTO:ace.pipestone@pcmn.us
END:VEVENT
BEGIN:VEVENT
DTSTART;TZID=America/Chicago:20260226T090000
DTEND;TZID=America/Chicago:20260226T100000
DTSTAMP:20260424T071641
CREATED:20251120T160102Z
LAST-MODIFIED:20260107T003250Z
UID:10004617-1772096400-1772100000@aceswmn.org
SUMMARY:SAIL class - Fulda MN
DESCRIPTION:
URL:https://aceswmn.org/event/sail-class-fulda-mn/2026-02-26/
LOCATION:Fulda Senior Center\, 107 N. Lafayette Ave.\, Fulda\, MN\, 56131\, United States
CATEGORIES:Stay Active & Independent for Life
ATTACH;FMTTYPE=image/jpeg:https://aceswmn.org/wp-content/uploads/2025/11/sail-class-flyer-ebp-fulda-senior-center-jan-mar2026.jpeg
ORGANIZER;CN="A.C.E. of SW Minnesota - Murray County":MAILTO:ace.murray@co.murray.mn.us
END:VEVENT
BEGIN:VEVENT
DTSTART;TZID=America/Chicago:20260226T090000
DTEND;TZID=America/Chicago:20260226T100000
DTSTAMP:20260424T071641
CREATED:20260204T181510Z
LAST-MODIFIED:20260204T181510Z
UID:10005694-1772096400-1772100000@aceswmn.org
SUMMARY:SAIL class - Magnolia MN
DESCRIPTION:
URL:https://aceswmn.org/event/sail-class-magnolia-mn/2026-02-26/
LOCATION:Magnolia Post Office\, 113 Luverne St.\, Magnolia\, MN\, 56158\, United States
CATEGORIES:Stay Active & Independent for Life
ATTACH;FMTTYPE=image/jpeg:https://aceswmn.org/wp-content/uploads/2026/02/sail-class-flyer-rsvp-magnolia-jan-mar26.jpeg
ORGANIZER;CN="A.C.E. of SW Minnesota - Rock County":MAILTO:ace.rock@co.rock.mn.us
END:VEVENT
BEGIN:VEVENT
DTSTART;TZID=America/Chicago:20260226T093000
DTEND;TZID=America/Chicago:20260226T103000
DTSTAMP:20260424T071641
CREATED:20251105T221430Z
LAST-MODIFIED:20251105T221430Z
UID:10004566-1772098200-1772101800@aceswmn.org
SUMMARY:SAIL class - Jasper MN
DESCRIPTION:
URL:https://aceswmn.org/event/sail-class-jasper-mn/2026-02-26/
LOCATION:Jasper Memorial Hall\, 101 E. Wall Street\, Jasper\, MN\, United States
CATEGORIES:Stay Active & Independent for Life
ATTACH;FMTTYPE=image/jpeg:https://aceswmn.org/wp-content/uploads/2025/11/sail-rsvp-grant-flyer-jasper-jan-mar2026.jpeg
ORGANIZER;CN="A.C.E. of SW Minnesota - Pipestone County":MAILTO:ace.pipestone@pcmn.us
END:VEVENT
BEGIN:VEVENT
DTSTART;TZID=America/Chicago:20260226T093000
DTEND;TZID=America/Chicago:20260226T103000
DTSTAMP:20260424T071641
CREATED:20260107T001202Z
LAST-MODIFIED:20260107T003326Z
UID:10004763-1772098200-1772101800@aceswmn.org
SUMMARY:SAIL class - Luverne MN
DESCRIPTION:
URL:https://aceswmn.org/event/sail-class-luverne-mn/2026-02-26/
LOCATION:American Reformed Chuch\, 304 N. Fairview Dr.\, Luverne\, 56156\, United States
CATEGORIES:Stay Active & Independent for Life
ATTACH;FMTTYPE=image/jpeg:https://aceswmn.org/wp-content/uploads/2026/01/sail-class-flyer-ace-mnraaa-arc-jan-mar2026-scaled.jpeg
ORGANIZER;CN="A.C.E. of SW Minnesota - Rock County":MAILTO:ace.rock@co.rock.mn.us
END:VEVENT
BEGIN:VEVENT
DTSTART;TZID=America/Chicago:20260226T093000
DTEND;TZID=America/Chicago:20260226T103000
DTSTAMP:20260424T071641
CREATED:20260129T184156Z
LAST-MODIFIED:20260129T184156Z
UID:10005638-1772098200-1772101800@aceswmn.org
SUMMARY:SAIL class - Hills MN
DESCRIPTION:
URL:https://aceswmn.org/event/sail-class-hills-mn/2026-02-26/
LOCATION:Game Plan 4 Hope\, 312 W. 3rd St.\, Hills\, MN\, 56138\, United States
CATEGORIES:Stay Active & Independent for Life
ATTACH;FMTTYPE=image/jpeg:https://aceswmn.org/wp-content/uploads/2026/01/sail-class-flyer-rsvp-hills-gp4h-feb-apr26.jpeg
ORGANIZER;CN="A.C.E. of SW Minnesota - Rock County":MAILTO:ace.rock@co.rock.mn.us
END:VEVENT
BEGIN:VEVENT
DTSTART;TZID=America/Chicago:20260226T100000
DTEND;TZID=America/Chicago:20260226T110000
DTSTAMP:20260424T071641
CREATED:20260107T003157Z
LAST-MODIFIED:20260107T003157Z
UID:10004891-1772100000-1772103600@aceswmn.org
SUMMARY:SAIL class - Tyler MN
DESCRIPTION:
URL:https://aceswmn.org/event/sail-class-tyler-mn/2026-02-26/
LOCATION:The Rock\, 148 N Tyler Street\, Tyler\, MN\, United States
CATEGORIES:Stay Active & Independent for Life
ATTACH;FMTTYPE=image/jpeg:https://aceswmn.org/wp-content/uploads/2026/01/sail-3d-2026-the-rock-scaled.jpeg
ORGANIZER;CN="A.C.E. of SW Minnesota - Lincoln Co.":MAILTO:ace.lincoln@co.lincoln.mn.us
END:VEVENT
BEGIN:VEVENT
DTSTART;TZID=America/Chicago:20260226T103000
DTEND;TZID=America/Chicago:20260226T113000
DTSTAMP:20260424T071641
CREATED:20260112T204737Z
LAST-MODIFIED:20260112T204737Z
UID:10004941-1772101800-1772105400@aceswmn.org
SUMMARY:SAIL class - Tracy MN
DESCRIPTION:
URL:https://aceswmn.org/event/sail-class-tracy-mn/2026-02-26/
LOCATION:Veteran’s Memorial Gymnasium\, 336 Morgan Street\, Tracy\, MN\, United States
CATEGORIES:Stay Active & Independent for Life
ATTACH;FMTTYPE=image/jpeg:https://aceswmn.org/wp-content/uploads/2026/01/sail-class-flyer-tracy-jan26-may26-rsvp.jpeg
ORGANIZER;CN="A.C.E. of SW Minnesota - Lyon County":MAILTO:ace.lyon@co.lyon.mn.us
END:VEVENT
BEGIN:VEVENT
DTSTART;TZID=America/Chicago:20260226T130000
DTEND;TZID=America/Chicago:20260226T140000
DTSTAMP:20260424T071641
CREATED:20251105T221723Z
LAST-MODIFIED:20260107T002327Z
UID:10004590-1772110800-1772114400@aceswmn.org
SUMMARY:SAIL class - Pipestone MN
DESCRIPTION:
URL:https://aceswmn.org/event/sail-class-pipestone-mn/2026-02-26/
LOCATION:Ridge View Estates\, 903 2nd Ave. SE\, Pipestone\, MN\, United States
CATEGORIES:Stay Active & Independent for Life
ATTACH;FMTTYPE=image/jpeg:https://aceswmn.org/wp-content/uploads/2025/11/sail-3d-ridge-view-jan-mar2026.jpeg
ORGANIZER;CN="A.C.E. of SW Minnesota - Pipestone County":MAILTO:ace.pipestone@pcmn.us
END:VEVENT
BEGIN:VEVENT
DTSTART;TZID=America/Chicago:20260227T103000
DTEND;TZID=America/Chicago:20260227T113000
DTSTAMP:20260424T071641
CREATED:20260112T204737Z
LAST-MODIFIED:20260112T204737Z
UID:10004942-1772188200-1772191800@aceswmn.org
SUMMARY:SAIL class - Tracy MN
DESCRIPTION:
URL:https://aceswmn.org/event/sail-class-tracy-mn/2026-02-27/
LOCATION:Veteran’s Memorial Gymnasium\, 336 Morgan Street\, Tracy\, MN\, United States
CATEGORIES:Stay Active & Independent for Life
ATTACH;FMTTYPE=image/jpeg:https://aceswmn.org/wp-content/uploads/2026/01/sail-class-flyer-tracy-jan26-may26-rsvp.jpeg
ORGANIZER;CN="A.C.E. of SW Minnesota - Lyon County":MAILTO:ace.lyon@co.lyon.mn.us
END:VEVENT
BEGIN:VEVENT
DTSTART;TZID=America/Chicago:20260227T130000
DTEND;TZID=America/Chicago:20260227T140000
DTSTAMP:20260424T071641
CREATED:20260121T192749Z
LAST-MODIFIED:20260121T193231Z
UID:10005475-1772197200-1772200800@aceswmn.org
SUMMARY:SAIL class - Marshall MN
DESCRIPTION:
URL:https://aceswmn.org/event/sail-class-marshall-mn/2026-02-27/
LOCATION:Hill Stree Place\, 401 S. Hill St.\, Marshall\, MN\, 56258\, United States
CATEGORIES:Stay Active & Independent for Life
ATTACH;FMTTYPE=image/jpeg:https://aceswmn.org/wp-content/uploads/2026/01/sail-class-flyer-hsp-jan26-apr26-new-logo-scaled.jpeg
ORGANIZER;CN="A.C.E. of SW Minnesota - Lyon County":MAILTO:ace.lyon@co.lyon.mn.us
END:VEVENT
BEGIN:VEVENT
DTSTART;TZID=America/Chicago:20260227T133000
DTEND;TZID=America/Chicago:20260227T143000
DTSTAMP:20260424T071641
CREATED:20260112T204352Z
LAST-MODIFIED:20260112T204352Z
UID:10004910-1772199000-1772202600@aceswmn.org
SUMMARY:SAIL class - Slayton MN
DESCRIPTION:
URL:https://aceswmn.org/event/sail-class-slayton-mn/2026-02-27/
LOCATION:Christ Lutheran Church\, 2959 Queen Ave.\, Slayton\, MN\, 56172\, United States
CATEGORIES:Stay Active & Independent for Life
ATTACH;FMTTYPE=image/jpeg:https://aceswmn.org/wp-content/uploads/2026/01/sail-class-flyer-eb-christlutheran-jan-apr2026-1.jpeg
ORGANIZER;CN="A.C.E. of SW Minnesota - Murray County":MAILTO:ace.murray@co.murray.mn.us
GEO:43.9830014;-95.747807
X-APPLE-STRUCTURED-LOCATION;VALUE=URI;X-ADDRESS=Christ Lutheran Church 2959 Queen Ave. Slayton MN 56172 United States;X-APPLE-RADIUS=500;X-TITLE=2959 Queen Ave.:geo:-95.747807,43.9830014
END:VEVENT
END:VCALENDAR